BEGIN:VCALENDAR
VERSION:2.0
PRODID:-//Dogs On The Road - ECPv6.0.0.1//NONSGML v1.0//EN
CALSCALE:GREGORIAN
METHOD:PUBLISH
X-WR-CALNAME:Dogs On The Road
X-ORIGINAL-URL:http://www.dogsontheroad.net
X-WR-CALDESC:Eventi per Dogs On The Road
REFRESH-INTERVAL;VALUE=DURATION:PT1H
X-Robots-Tag:noindex
X-PUBLISHED-TTL:PT1H
BEGIN:VTIMEZONE
TZID:Europe/Rome
BEGIN:DAYLIGHT
TZOFFSETFROM:+0100
TZOFFSETTO:+0200
TZNAME:CEST
DTSTART:20170326T010000
END:DAYLIGHT
BEGIN:STANDARD
TZOFFSETFROM:+0200
TZOFFSETTO:+0100
TZNAME:CET
DTSTART:20171029T010000
END:STANDARD
END:VTIMEZONE
BEGIN:VEVENT
DTSTART;VALUE=DATE:20171203
DTEND;VALUE=DATE:20171204
DTSTAMP:20260420T122448
CREATED:20171027T091006Z
LAST-MODIFIED:20171027T091006Z
UID:1306-1512259200-1512345599@www.dogsontheroad.net
SUMMARY:Escursione con cani all'Ecoparco a Vezzano sul Crostolo (Re)
DESCRIPTION:Domenica 3 Dicembre ore 8.00 – attività da svolgersi con i cani\, adatto a TUTTI \nEscursionismo all’Ecoparco a Vezzano sul Crostolo (Re) – Pranzo al sacco \nGiornata dedicata alle attività all’aria aperta in compagnia dei nostri cani \nRitrovo: Piazza Roma\, Concordia sulla Secchia
URL:http://www.dogsontheroad.net/event/escursione-con-cani-allecoparco-a-vezzano-sul-crostolo-re/
END:VEVENT
END:VCALENDAR